BEGIN:VCALENDAR
VERSION:2.0
PRODID:-//ema Software Suite - ECPv6.15.20//NONSGML v1.0//EN
CALSCALE:GREGORIAN
METHOD:PUBLISH
X-WR-CALNAME:ema Software Suite
X-ORIGINAL-URL:https://imk-ema.com/en
X-WR-CALDESC:Events for ema Software Suite
REFRESH-INTERVAL;VALUE=DURATION:PT1H
X-Robots-Tag:noindex
X-PUBLISHED-TTL:PT1H
BEGIN:VTIMEZONE
TZID:Europe/Berlin
BEGIN:DAYLIGHT
TZOFFSETFROM:+0100
TZOFFSETTO:+0200
TZNAME:CEST
DTSTART:20240331T010000
END:DAYLIGHT
BEGIN:STANDARD
TZOFFSETFROM:+0200
TZOFFSETTO:+0100
TZNAME:CET
DTSTART:20241027T010000
END:STANDARD
BEGIN:DAYLIGHT
TZOFFSETFROM:+0100
TZOFFSETTO:+0200
TZNAME:CEST
DTSTART:20250330T010000
END:DAYLIGHT
BEGIN:STANDARD
TZOFFSETFROM:+0200
TZOFFSETTO:+0100
TZNAME:CET
DTSTART:20251026T010000
END:STANDARD
BEGIN:DAYLIGHT
TZOFFSETFROM:+0100
TZOFFSETTO:+0200
TZNAME:CEST
DTSTART:20260329T010000
END:DAYLIGHT
BEGIN:STANDARD
TZOFFSETFROM:+0200
TZOFFSETTO:+0100
TZNAME:CET
DTSTART:20261025T010000
END:STANDARD
END:VTIMEZONE
BEGIN:VEVENT
DTSTART;VALUE=DATE:20251020
DTEND;VALUE=DATE:20251024
DTSTAMP:20260422T023809
CREATED:20241113T084925Z
LAST-MODIFIED:20251218T134839Z
UID:11502-1760918400-1761263999@imk-ema.com
SUMMARY:ema Work Designer Engineer Training
DESCRIPTION:Datum: 20. – 23. Oktober 2025 \nUhrzeit: 08:30 – 12:00 Uhr (4x 3\,5h) \nVoraussetzung: Teilnahmebestätigung emaWD Base oder emaWD Beginner Training \nDas emaWD Engineer Training stellt eine Vertiefungsschulung dar\, welche folgende Inhalte vermittelt: \n\nEinfache Objektbewegungen mit Interaktion\nKinematische Ketten (IK)\nVorwärtskinematik (VK)\nErweiterte Kollisionsvermeidung\nBenutzerdefinierte Ressourcenbibliotheken (Objekte/Verrichtungen)\nProjekte zusammenführen\nAbbildung von Produktvarianten\nEinführung Virtual Reality/Motion Capturing/3D-Scans\nHinweise zur Erstellung von Zeit-/Ergonomieanalysen\nEinführung emaWizard\nEinführung Umtaktungsfunktion\nHinweise zur Datenaufbereitung\n\nDie Registrierung erfolgt über das Kontaktformular: \nZur Anmeldung
URL:https://imk-ema.com/en/event/emawd-engineer-training-oktober/
CATEGORIES:Deutsch,Englisch,Schulung
END:VEVENT
END:VCALENDAR